BEGIN:VCALENDAR
PRODID:PlannerXE123
VERSION:2.0
CALSCALE:GREGORIAN
METHOD:PUBLISH
BEGIN:VEVENT
DTSTART:20260217
DTEND:20260218
DTSTAMP:20260424T003210Z
UID:(hg.cathms.kr_13082)
CREATED:20260424T003210Z
DESCRIPTION:연도 10시. 미사 11시\n\n<a href="http://hg.cathms.kr/xe/hg_board_1/13082?iCal=ics_event&document_srl=13082">원본일정</a>
LOCATION:
SEQUENCE:1
STATUS:CONFIRMED
SUMMARY:설 합동위령미사
TRANSP:TRANSPARENT
END:VEVENT
END:VCALENDAR
