BEGIN:VCALENDAR
PRODID:PlannerXE123
VERSION:2.0
CALSCALE:GREGORIAN
METHOD:PUBLISH
BEGIN:VEVENT
DTSTART:20260308
DTEND:20260309
DTSTAMP:20260424T044409Z
UID:(hg.cathms.kr_13103)
CREATED:20260424T044409Z
DESCRIPTION:김학률 사바 신부님 사순특강 &lt;교중미사중&gt;\n\n<a href="http://hg.cathms.kr/xe/hg_board_1/13103?iCal=ics_event&document_srl=13103">원본일정</a>
LOCATION:
SEQUENCE:1
STATUS:CONFIRMED
SUMMARY:사순특강
TRANSP:TRANSPARENT
END:VEVENT
END:VCALENDAR
