BEGIN:VCALENDAR
PRODID:PlannerXE123
VERSION:2.0
CALSCALE:GREGORIAN
METHOD:PUBLISH
BEGIN:VEVENT
DTSTART:20260315
DTEND:20260316
DTSTAMP:20260425T090414Z
UID:(hg.cathms.kr_13107)
CREATED:20260425T090414Z
DESCRIPTION:참석대상확인(교중미사후)\n\n<a href="http://hg.cathms.kr/xe/hg_board_1/13107?iCal=ics_event&document_srl=13107">원본일정</a>
LOCATION:
SEQUENCE:1
STATUS:CONFIRMED
SUMMARY:전례회의
TRANSP:TRANSPARENT
END:VEVENT
END:VCALENDAR
