BEGIN:VCALENDAR
PRODID:PlannerXE123
VERSION:2.0
CALSCALE:GREGORIAN
METHOD:PUBLISH
BEGIN:VEVENT
DTSTART:20260402
DTEND:20260403
DTSTAMP:20260426T113917Z
UID:(hg.cathms.kr_13164)
CREATED:20260426T113917Z
DESCRIPTION:저녁7시30분 미사\n\n<a href="http://hg.cathms.kr/xe/hg_board_1/13164?iCal=ics_event&document_srl=13164">원본일정</a>
LOCATION:
SEQUENCE:1
STATUS:CONFIRMED
SUMMARY:주님만찬성목요일
TRANSP:TRANSPARENT
END:VEVENT
END:VCALENDAR
