BEGIN:VCALENDAR
PRODID:PlannerXE123
VERSION:2.0
CALSCALE:GREGORIAN
METHOD:PUBLISH
BEGIN:VEVENT
DTSTART:20260409
DTEND:20260410
DTSTAMP:20260425T101311Z
UID:(hg.cathms.kr_13170)
CREATED:20260425T101311Z
DESCRIPTION:오후1시30분\n\n<a href="http://hg.cathms.kr/xe/hg_board_1/13170?iCal=ics_event&document_srl=13170">원본일정</a>
LOCATION:
SEQUENCE:1
STATUS:CONFIRMED
SUMMARY:본당재경방문
TRANSP:TRANSPARENT
END:VEVENT
END:VCALENDAR
