BEGIN:VCALENDAR
PRODID:PlannerXE123
VERSION:2.0
CALSCALE:GREGORIAN
METHOD:PUBLISH
BEGIN:VEVENT
DTSTART:20260406
DTEND:20260407
DTSTAMP:20260424T003209Z
UID:(hg.cathms.kr_13171)
CREATED:20260424T003209Z
DESCRIPTION:월요일 동판보수공사\n\n<a href="http://hg.cathms.kr/xe/hg_board_1/13171?iCal=ics_event&document_srl=13171">원본일정</a>
LOCATION:
SEQUENCE:1
STATUS:CONFIRMED
SUMMARY:성전동판보수공사
TRANSP:TRANSPARENT
END:VEVENT
END:VCALENDAR
