BEGIN:VCALENDAR
PRODID:PlannerXE123
VERSION:2.0
CALSCALE:GREGORIAN
METHOD:PUBLISH
BEGIN:VEVENT
DTSTART:20260510
DTEND:20260511
DTSTAMP:20260424T113239Z
UID:(hg.cathms.kr_13260)
CREATED:20260424T113239Z
DESCRIPTION:교중미사후\n\n<a href="http://hg.cathms.kr/xe/hg_board_1/13260?iCal=ics_event&document_srl=13260">원본일정</a>
LOCATION:
SEQUENCE:1
STATUS:CONFIRMED
SUMMARY:레지오단원 실무교육
TRANSP:TRANSPARENT
END:VEVENT
END:VCALENDAR
