BEGIN:VCALENDAR
PRODID:PlannerXE123
VERSION:2.0
CALSCALE:GREGORIAN
METHOD:PUBLISH
BEGIN:VEVENT
DTSTART:20260518
DTEND:20260523
DTSTAMP:20260425T235420Z
UID:(hg.cathms.kr_13261)
CREATED:20260425T235420Z
DESCRIPTION:평일미사없음\n\n<a href="http://hg.cathms.kr/xe/hg_board_1/13261?iCal=ics_event&document_srl=13261">원본일정</a>
LOCATION:
SEQUENCE:1
STATUS:CONFIRMED
SUMMARY:사제피정
TRANSP:TRANSPARENT
END:VEVENT
END:VCALENDAR
