BEGIN:VCALENDAR
PRODID:PlannerXE123
VERSION:2.0
CALSCALE:GREGORIAN
METHOD:PUBLISH
BEGIN:VEVENT
DTSTART:20260503
DTEND:20260504
DTSTAMP:20260422T001255Z
UID:(hg.cathms.kr_13265)
CREATED:20260422T001255Z
DESCRIPTION:\n\n<a href="http://hg.cathms.kr/xe/hg_board_1?iCal=ics_feed&document_srl=13265">원본일정</a>
LOCATION:
SEQUENCE:1
STATUS:CONFIRMED
SUMMARY:어버이날행사
TRANSP:TRANSPARENT
END:VEVENT
BEGIN:VEVENT
DTSTART:20260531
DTEND:20260601
DTSTAMP:20260422T001255Z
UID:(hg.cathms.kr_13264)
CREATED:20260422T001255Z
DESCRIPTION:\n\n<a href="http://hg.cathms.kr/xe/hg_board_1?iCal=ics_feed&document_srl=13264">원본일정</a>
LOCATION:
SEQUENCE:2
STATUS:CONFIRMED
SUMMARY:사목회의
TRANSP:TRANSPARENT
END:VEVENT
BEGIN:VEVENT
DTSTART:20260514
DTEND:20260515
DTSTAMP:20260422T001255Z
UID:(hg.cathms.kr_13263)
CREATED:20260422T001255Z
DESCRIPTION:\n\n<a href="http://hg.cathms.kr/xe/hg_board_1?iCal=ics_feed&document_srl=13263">원본일정</a>
LOCATION:
SEQUENCE:3
STATUS:CONFIRMED
SUMMARY:제2꾸리아
TRANSP:TRANSPARENT
END:VEVENT
BEGIN:VEVENT
DTSTART:20260513
DTEND:20260514
DTSTAMP:20260422T001255Z
UID:(hg.cathms.kr_13262)
CREATED:20260422T001255Z
DESCRIPTION:\n\n<a href="http://hg.cathms.kr/xe/hg_board_1?iCal=ics_feed&document_srl=13262">원본일정</a>
LOCATION:
SEQUENCE:4
STATUS:CONFIRMED
SUMMARY:제1꾸리아
TRANSP:TRANSPARENT
END:VEVENT
BEGIN:VEVENT
DTSTART:20260518
DTEND:20260523
DTSTAMP:20260422T001255Z
UID:(hg.cathms.kr_13261)
CREATED:20260422T001255Z
DESCRIPTION:\n\n<a href="http://hg.cathms.kr/xe/hg_board_1?iCal=ics_feed&document_srl=13261">원본일정</a>
LOCATION:
SEQUENCE:5
STATUS:CONFIRMED
SUMMARY:사제피정
TRANSP:TRANSPARENT
END:VEVENT
BEGIN:VEVENT
DTSTART:20260510
DTEND:20260511
DTSTAMP:20260422T001255Z
UID:(hg.cathms.kr_13260)
CREATED:20260422T001255Z
DESCRIPTION:\n\n<a href="http://hg.cathms.kr/xe/hg_board_1?iCal=ics_feed&document_srl=13260">원본일정</a>
LOCATION:
SEQUENCE:6
STATUS:CONFIRMED
SUMMARY:레지오단원 실무교육
TRANSP:TRANSPARENT
END:VEVENT
BEGIN:VEVENT
DTSTART:20260423
DTEND:20260424
DTSTAMP:20260422T001255Z
UID:(hg.cathms.kr_13259)
CREATED:20260422T001255Z
DESCRIPTION:\n\n<a href="http://hg.cathms.kr/xe/hg_board_1?iCal=ics_feed&document_srl=13259">원본일정</a>
LOCATION:
SEQUENCE:7
STATUS:CONFIRMED
SUMMARY:병자영성체
TRANSP:TRANSPARENT
END:VEVENT
BEGIN:VEVENT
DTSTART:20260416
DTEND:20260417
DTSTAMP:20260422T001255Z
UID:(hg.cathms.kr_13175)
CREATED:20260422T001255Z
DESCRIPTION:\n\n<a href="http://hg.cathms.kr/xe/hg_board_1?iCal=ics_feed&document_srl=13175">원본일정</a>
LOCATION:
SEQUENCE:8
STATUS:CONFIRMED
SUMMARY:제2꾸리아
TRANSP:TRANSPARENT
END:VEVENT
BEGIN:VEVENT
DTSTART:20260415
DTEND:20260416
DTSTAMP:20260422T001255Z
UID:(hg.cathms.kr_13174)
CREATED:20260422T001255Z
DESCRIPTION:\n\n<a href="http://hg.cathms.kr/xe/hg_board_1?iCal=ics_feed&document_srl=13174">원본일정</a>
LOCATION:
SEQUENCE:9
STATUS:CONFIRMED
SUMMARY:제1꾸리아
TRANSP:TRANSPARENT
END:VEVENT
BEGIN:VEVENT
DTSTART:20260426
DTEND:20260427
DTSTAMP:20260422T001255Z
UID:(hg.cathms.kr_13173)
CREATED:20260422T001255Z
DESCRIPTION:\n\n<a href="http://hg.cathms.kr/xe/hg_board_1?iCal=ics_feed&document_srl=13173">원본일정</a>
LOCATION:
SEQUENCE:10
STATUS:CONFIRMED
SUMMARY:사목회의
TRANSP:TRANSPARENT
END:VEVENT
BEGIN:VEVENT
DTSTART:20260418
DTEND:20260419
DTSTAMP:20260422T001255Z
UID:(hg.cathms.kr_13172)
CREATED:20260422T001255Z
DESCRIPTION:\n\n<a href="http://hg.cathms.kr/xe/hg_board_1?iCal=ics_feed&document_srl=13172">원본일정</a>
LOCATION:
SEQUENCE:11
STATUS:CONFIRMED
SUMMARY:교구청봉헌식
TRANSP:TRANSPARENT
END:VEVENT
BEGIN:VEVENT
DTSTART:20260406
DTEND:20260407
DTSTAMP:20260422T001255Z
UID:(hg.cathms.kr_13171)
CREATED:20260422T001255Z
DESCRIPTION:\n\n<a href="http://hg.cathms.kr/xe/hg_board_1?iCal=ics_feed&document_srl=13171">원본일정</a>
LOCATION:
SEQUENCE:12
STATUS:CONFIRMED
SUMMARY:성전동판보수공사
TRANSP:TRANSPARENT
END:VEVENT
BEGIN:VEVENT
DTSTART:20260409
DTEND:20260410
DTSTAMP:20260422T001255Z
UID:(hg.cathms.kr_13170)
CREATED:20260422T001255Z
DESCRIPTION:\n\n<a href="http://hg.cathms.kr/xe/hg_board_1?iCal=ics_feed&document_srl=13170">원본일정</a>
LOCATION:
SEQUENCE:13
STATUS:CONFIRMED
SUMMARY:본당재경방문
TRANSP:TRANSPARENT
END:VEVENT
BEGIN:VEVENT
DTSTART:20260405
DTEND:20260406
DTSTAMP:20260422T001255Z
UID:(hg.cathms.kr_13169)
CREATED:20260422T001255Z
DESCRIPTION:\n\n<a href="http://hg.cathms.kr/xe/hg_board_1?iCal=ics_feed&document_srl=13169">원본일정</a>
LOCATION:
SEQUENCE:14
STATUS:CONFIRMED
SUMMARY:주님부활대축일
TRANSP:TRANSPARENT
END:VEVENT
BEGIN:VEVENT
DTSTART:20260404
DTEND:20260405
DTSTAMP:20260422T001255Z
UID:(hg.cathms.kr_13168)
CREATED:20260422T001255Z
DESCRIPTION:\n\n<a href="http://hg.cathms.kr/xe/hg_board_1?iCal=ics_feed&document_srl=13168">원본일정</a>
LOCATION:
SEQUENCE:15
STATUS:CONFIRMED
SUMMARY:파스카성야미사
TRANSP:TRANSPARENT
END:VEVENT
BEGIN:VEVENT
DTSTART:20260403
DTEND:20260404
DTSTAMP:20260422T001255Z
UID:(hg.cathms.kr_13166)
CREATED:20260422T001255Z
DESCRIPTION:\n\n<a href="http://hg.cathms.kr/xe/hg_board_1?iCal=ics_feed&document_srl=13166">원본일정</a>
LOCATION:
SEQUENCE:16
STATUS:CONFIRMED
SUMMARY:주님수난성금요일
TRANSP:TRANSPARENT
END:VEVENT
BEGIN:VEVENT
DTSTART:20260403
DTEND:20260404
DTSTAMP:20260422T001255Z
UID:(hg.cathms.kr_13165)
CREATED:20260422T001255Z
DESCRIPTION:\n\n<a href="http://hg.cathms.kr/xe/hg_board_1?iCal=ics_feed&document_srl=13165">원본일정</a>
LOCATION:
SEQUENCE:17
STATUS:CONFIRMED
SUMMARY:십자가의길
TRANSP:TRANSPARENT
END:VEVENT
BEGIN:VEVENT
DTSTART:20260402
DTEND:20260403
DTSTAMP:20260422T001255Z
UID:(hg.cathms.kr_13164)
CREATED:20260422T001255Z
DESCRIPTION:\n\n<a href="http://hg.cathms.kr/xe/hg_board_1?iCal=ics_feed&document_srl=13164">원본일정</a>
LOCATION:
SEQUENCE:18
STATUS:CONFIRMED
SUMMARY:주님만찬성목요일
TRANSP:TRANSPARENT
END:VEVENT
BEGIN:VEVENT
DTSTART:20260326
DTEND:20260327
DTSTAMP:20260422T001255Z
UID:(hg.cathms.kr_13114)
CREATED:20260422T001255Z
DESCRIPTION:\n\n<a href="http://hg.cathms.kr/xe/hg_board_1?iCal=ics_feed&document_srl=13114">원본일정</a>
LOCATION:
SEQUENCE:19
STATUS:CONFIRMED
SUMMARY:본당 합동 판공성사
TRANSP:TRANSPARENT
END:VEVENT
BEGIN:VEVENT
DTSTART:20260324
DTEND:20260328
DTSTAMP:20260422T001255Z
UID:(hg.cathms.kr_13113)
CREATED:20260422T001255Z
DESCRIPTION:\n\n<a href="http://hg.cathms.kr/xe/hg_board_1?iCal=ics_feed&document_srl=13113">원본일정</a>
LOCATION:
SEQUENCE:20
STATUS:CONFIRMED
SUMMARY:마산1지역 합동판공성사기간
TRANSP:TRANSPARENT
END:VEVENT
END:VCALENDAR
